BEGIN:VCALENDAR
VERSION:2.0
PRODID:-//URW Community FCU - ECPv6.15.17.1//NONSGML v1.0//EN
CALSCALE:GREGORIAN
METHOD:PUBLISH
X-WR-CALNAME:URW Community FCU
X-ORIGINAL-URL:https://www.urwfcu.org
X-WR-CALDESC:Events for URW Community FCU
REFRESH-INTERVAL;VALUE=DURATION:PT1H
X-Robots-Tag:noindex
X-PUBLISHED-TTL:PT1H
BEGIN:VTIMEZONE
TZID:America/New_York
BEGIN:DAYLIGHT
TZOFFSETFROM:-0500
TZOFFSETTO:-0400
TZNAME:EDT
DTSTART:20250309T070000
END:DAYLIGHT
BEGIN:STANDARD
TZOFFSETFROM:-0400
TZOFFSETTO:-0500
TZNAME:EST
DTSTART:20251102T060000
END:STANDARD
BEGIN:DAYLIGHT
TZOFFSETFROM:-0500
TZOFFSETTO:-0400
TZNAME:EDT
DTSTART:20260308T070000
END:DAYLIGHT
BEGIN:STANDARD
TZOFFSETFROM:-0400
TZOFFSETTO:-0500
TZNAME:EST
DTSTART:20261101T060000
END:STANDARD
BEGIN:DAYLIGHT
TZOFFSETFROM:-0500
TZOFFSETTO:-0400
TZNAME:EDT
DTSTART:20270314T070000
END:DAYLIGHT
BEGIN:STANDARD
TZOFFSETFROM:-0400
TZOFFSETTO:-0500
TZNAME:EST
DTSTART:20271107T060000
END:STANDARD
END:VTIMEZONE
BEGIN:VEVENT
DTSTART;TZID=America/New_York:20260423T150000
DTEND;TZID=America/New_York:20260423T170000
DTSTAMP:20260422T130638
CREATED:20260317T202236Z
LAST-MODIFIED:20260317T203039Z
UID:4601-1776956400-1776963600@www.urwfcu.org
SUMMARY:URW Shred Day
DESCRIPTION:Bring your paper documents that need to be shredded and our friends at Commonwealth Document Management will do the rest! \nThis is a Members-only free event.
URL:https://www.urwfcu.org/event/urw-shred-day/
LOCATION:URW Lowes Branch\, 314 Lowes Drive\, Danville\, Virginia\, 24540
END:VEVENT
END:VCALENDAR